BEGIN:VCALENDAR
VERSION:2.0
PRODID:-//Uit in Arnhem - ECPv5.0.0.2//NONSGML v1.0//EN
CALSCALE:GREGORIAN
METHOD:PUBLISH
X-WR-CALNAME:Uit in Arnhem
X-ORIGINAL-URL:https://www.uitinarnhem.nl
X-WR-CALDESC:Events for Uit in Arnhem
BEGIN:VTIMEZONE
TZID:Europe/Amsterdam
BEGIN:DAYLIGHT
TZOFFSETFROM:+0100
TZOFFSETTO:+0200
TZNAME:CEST
DTSTART:20240331T010000
END:DAYLIGHT
BEGIN:STANDARD
TZOFFSETFROM:+0200
TZOFFSETTO:+0100
TZNAME:CET
DTSTART:20241027T010000
END:STANDARD
END:VTIMEZONE
BEGIN:VEVENT
DTSTART;TZID=Europe/Amsterdam:20240805T130000
DTEND;TZID=Europe/Amsterdam:20240805T170000
DTSTAMP:20260421T125337
CREATED:20240729T132837Z
LAST-MODIFIED:20240729T132837Z
UID:10105-1722862800-1722877200@www.uitinarnhem.nl
SUMMARY:Atletiekexperience op de Markt
DESCRIPTION:Hoogtepunt van de week\nPolsstokhoogspringen is spectaculair! Zeker als je er met je neus bovenop zit. Geniet in aanloop naar de EK Indoor Atletiek 2025 vanaf het terras van de demonstratie of spring zelf mee. Bekende en talentvolle atleten helpen je hier graag bij. Wil je liever rennen? De kombochten geven jou de ervaring van indoor lopen buiten. \nDatum: maandag 5 augustus\nTijd: 13.00 – 17.00 uur \nVoor alle leeftijden! Gratis entree. \nDeze zomer bruist het van de sportevenementen en kleurt Nederland oranje! Kom in de zomervakantie naar de Markt en beleef de sport in Arnhem samen. Klik hier voor meer activiteiten op de Markt. \n
URL:https://www.uitinarnhem.nl/agenda/atletiekexperience-op-de-markt/
LOCATION:Markt\, Markt\, Arnhem\, Nederland
CATEGORIES:Actief,Kindvriendelijk,Sport
ATTACH;FMTTYPE=image/jpeg:https://www.uitinarnhem.nl/wp-content/uploads/2024/07/20240707_Atletiekexperience_insta.jpg
END:VEVENT
END:VCALENDAR