BEGIN:VCALENDAR
VERSION:2.0
PRODID:-//Uit in Arnhem - ECPv5.0.0.2//NONSGML v1.0//EN
CALSCALE:GREGORIAN
METHOD:PUBLISH
X-WR-CALNAME:Uit in Arnhem
X-ORIGINAL-URL:https://www.uitinarnhem.nl
X-WR-CALDESC:Events for Uit in Arnhem
BEGIN:VTIMEZONE
TZID:Europe/Amsterdam
BEGIN:DAYLIGHT
TZOFFSETFROM:+0100
TZOFFSETTO:+0200
TZNAME:CEST
DTSTART:20250330T010000
END:DAYLIGHT
BEGIN:STANDARD
TZOFFSETFROM:+0200
TZOFFSETTO:+0100
TZNAME:CET
DTSTART:20251026T010000
END:STANDARD
END:VTIMEZONE
BEGIN:VEVENT
DTSTART;TZID=Europe/Amsterdam:20250517T143000
DTEND;TZID=Europe/Amsterdam:20250517T230000
DTSTAMP:20260421T094953
CREATED:20250124T090406Z
LAST-MODIFIED:20250124T111912Z
UID:12329-1747492200-1747522800@www.uitinarnhem.nl
SUMMARY:ASM Festival 2025 aan de Stadsblokken Arnhem
DESCRIPTION:Het ASM Festival maakt vandaag met trots de line-up voor de editie van 2025 bekend! Op zaterdag 17 mei barst het festivalterrein aan de Stadsblokken in Arnhem los met een spectaculair programma vol topartiesten. Naast de eerder aangekondigde Guus Meeuwis\, die na zes jaar terugkeert op het ASM Festival\, betreden ook KANE\, Goldband\, Paul Elstak\, Roxy Dekker en Hannah Mae het podium. \nComeback KANE en festivalsensatie Goldband\nRockband KANE\, die afgelopen zomer na bijna 10 jaar een knallende comeback maakte\, is klaar om het ASM Festival te veroveren tijdens hun festivaltour. Ook de energieke festivalsensatie Goldband zal ongetwijfeld voor een explosieve show zorgen. DJ Paul Elstak\, een legende in de dance scene\, brengt de beuk erin\, terwijl opkomende sterren Roxy Dekker en Hannah Mae hun talent laten zien. Met deze gevarieerde line-up biedt ASM Festival voor ieder wat wils. \nEarly Bird-tickets met korting\nDe kaartverkoop start op vrijdag 31 januari om 10.00 uur met een exclusieve Early Bird-actie. Wees er snel bij\, want de verwachting is dat de tickets snel uitverkocht zullen zijn. Om 12.00 uur start de reguliere kaartverkoop. Meld je aan voor de Early Bird via http://www.asmfestival.nl (tot en met 30 januari). \n
URL:https://www.uitinarnhem.nl/agenda/asm-festival-2025-aan-de-stadsblokken-arnhem/
LOCATION:Stadsblokken\, Stadsblokkenweg 25\, Arnhem
CATEGORIES:Festival,Muziek
ATTACH;FMTTYPE=image/jpeg:https://www.uitinarnhem.nl/wp-content/uploads/2025/01/GuusMeeuwisV5_3_664-2-1x1-2-scaled.jpg
END:VEVENT
END:VCALENDAR