BEGIN:VCALENDAR
VERSION:2.0
PRODID:-//Uit in Arnhem - ECPv5.0.0.2//NONSGML v1.0//EN
CALSCALE:GREGORIAN
METHOD:PUBLISH
X-WR-CALNAME:Uit in Arnhem
X-ORIGINAL-URL:https://www.uitinarnhem.nl
X-WR-CALDESC:Events for Uit in Arnhem
BEGIN:VTIMEZONE
TZID:Europe/Amsterdam
BEGIN:DAYLIGHT
TZOFFSETFROM:+0100
TZOFFSETTO:+0200
TZNAME:CEST
DTSTART:20240331T010000
END:DAYLIGHT
BEGIN:STANDARD
TZOFFSETFROM:+0200
TZOFFSETTO:+0100
TZNAME:CET
DTSTART:20241027T010000
END:STANDARD
END:VTIMEZONE
BEGIN:VEVENT
DTSTART;TZID=Europe/Amsterdam:20240928T120000
DTEND;TZID=Europe/Amsterdam:20240929T170000
DTSTAMP:20260421T113320
CREATED:20240916T171813Z
LAST-MODIFIED:20240916T171813Z
UID:10675-1727524800-1727629200@www.uitinarnhem.nl
SUMMARY:Art@DeTransformatie 2024
DESCRIPTION:Kunst kijken én kopen in 65 Arnhemse open ateliers! \nOp 28 en 29 september is er het tweejaarlijkse kunstevenement Art@DeTransformatie. Het evenement vindt plaats in De Transformatie\, een bijzonder gebouwencomplex in de stijl van de Nieuwe Haagse School en gesitueerd in de Arnhemse wijk Het Broek. De feestelijke opening door kunstenaarsverzamelaar De Groen is zaterdag om 28 september om 12 uur. \nDaarna ben je op deze dagen van 12 tot 17 uur van harte welkom om een kijkje te nemen in de ruim 65 ateliers en studio’s van kunstenaars\, ontwerpers en musici die in deze gebouwen werken. U kunt kennismaken met de kunstenaars in hun domein en er is een overzichtstentoonstelling in de Boderuimte van het hoofdgebouw. Daar zal van elke deelnemer een werk te zien zijn. \nParkeren in de omgeving is gratis\, maar het staat snel vol\, dus kom lekker op de fiets\, als het kan. \n
URL:https://www.uitinarnhem.nl/agenda/artdetransformatie-2024/
LOCATION:de Transformatie\, Van Oldenbarneveldtstraat 90\, Arnhem\, 6827 AN\, Nederland
CATEGORIES:Overig,Tentoonstelling
ATTACH;FMTTYPE=image/jpeg:https://www.uitinarnhem.nl/wp-content/uploads/2024/09/transformatie.jpg
END:VEVENT
END:VCALENDAR