BEGIN:VCALENDAR
VERSION:2.0
PRODID:-//Uit in Arnhem - ECPv5.0.0.2//NONSGML v1.0//EN
CALSCALE:GREGORIAN
METHOD:PUBLISH
X-WR-CALNAME:Uit in Arnhem
X-ORIGINAL-URL:https://www.uitinarnhem.nl
X-WR-CALDESC:Events for Uit in Arnhem
BEGIN:VTIMEZONE
TZID:Europe/Amsterdam
BEGIN:DAYLIGHT
TZOFFSETFROM:+0100
TZOFFSETTO:+0200
TZNAME:CEST
DTSTART:20210328T010000
END:DAYLIGHT
BEGIN:STANDARD
TZOFFSETFROM:+0200
TZOFFSETTO:+0100
TZNAME:CET
DTSTART:20211031T010000
END:STANDARD
END:VTIMEZONE
BEGIN:VEVENT
DTSTART;TZID=Europe/Amsterdam:20211023T100000
DTEND;TZID=Europe/Amsterdam:20211031T220000
DTSTAMP:20260421T053745
CREATED:20210729T183517Z
LAST-MODIFIED:20210803T143422Z
UID:6731-1634983200-1635717600@www.uitinarnhem.nl
SUMMARY:Sprookjesfestival in Arnhem en Nijmegen
DESCRIPTION:Arnhem en Nijmegen vormen prachtig decor voor Sprookjesfestival \nDe sierlijke parken\, vorstelijke kastelen\, klaterende beekjes en glooiende heuvels van Arnhem en Nijmegen zijn een prima decor voor het Sprookjesfestival. De editie 2021 begint op 23 oktober en heeft als thema ‘De sprookjes van 1001 nacht’. Dat betekent: mooie prinsessen\, hardwerkende kabouters\, lieve wolven\, rondspringende kikkers en grappige lakeien. Op 40 locaties kan het publiek genieten van honderden activiteiten. \nHet programma is binnenkort te vinden op: https://www.sprookjesfestival.nl/programma/ \n  \n  \n
URL:https://www.uitinarnhem.nl/agenda/arnhem-en-nijmegen-vormen-prachtig-decor-voor-sprookjesfestival/
LOCATION:Arnhem en Nijmegen
CATEGORIES:Festival,Kindvriendelijk
ATTACH;FMTTYPE=image/jpeg:https://www.uitinarnhem.nl/wp-content/uploads/2021/07/sprookjesfestival.jpg
END:VEVENT
END:VCALENDAR