BEGIN:VCALENDAR
VERSION:2.0
PRODID:-//Uit in Arnhem - ECPv5.0.0.2//NONSGML v1.0//EN
CALSCALE:GREGORIAN
METHOD:PUBLISH
X-WR-CALNAME:Uit in Arnhem
X-ORIGINAL-URL:https://www.uitinarnhem.nl
X-WR-CALDESC:Events for Uit in Arnhem
BEGIN:VTIMEZONE
TZID:Europe/Amsterdam
BEGIN:DAYLIGHT
TZOFFSETFROM:+0100
TZOFFSETTO:+0200
TZNAME:CEST
DTSTART:20250330T010000
END:DAYLIGHT
BEGIN:STANDARD
TZOFFSETFROM:+0200
TZOFFSETTO:+0100
TZNAME:CET
DTSTART:20251026T010000
END:STANDARD
END:VTIMEZONE
BEGIN:VEVENT
DTSTART;TZID=Europe/Amsterdam:20251128T203000
DTEND;TZID=Europe/Amsterdam:20251128T220000
DTSTAMP:20260421T040827
CREATED:20251104T185241Z
LAST-MODIFIED:20251104T185241Z
UID:13769-1764361800-1764367200@www.uitinarnhem.nl
SUMMARY:André Manuel in het Posttheater
DESCRIPTION:Het Goddelijke Lichaam is het tweede deel van een nu al belachelijk succesvol drieluik over de mens\, de mensen en de mensheid. \nHet Goddelijke Lichaam is voor alles een voorstelling over vlees. De hamlap. De micropenis. Kanonnenvoer. Borstvergrotingen. Protheses. IJdelheid. Snijwonden. Knietjes die al dan niet gegeven worden. En een paar bipsen. Bloot. Natuurlijk komt de Vegetarische Slager langs. Op rolschaatsen. En we gaan praten over de eigenaardige wens van sommigen om zo gezond als maar enigszins mogelijk is de laatste adem uit te blazen. \nVerder gaat het natuurlijk over X-benen. Die neemt Manuel zelf mee. \nVoor meer informatie en tickets: https://www.posttheater.nl/activiteit/222877/2025-11-28/andre-manuel \n  \n
URL:https://www.uitinarnhem.nl/agenda/andre-manuel-in-het-posttheater/
LOCATION:Posttheater\, Rosendaalsestraat 27\, Arnhem\, 6824 CA\, Nederland
CATEGORIES:Cabaret
ATTACH;FMTTYPE=image/jpeg:https://www.uitinarnhem.nl/wp-content/uploads/2025/11/561241797_1331485492104190_6760065195447308075_n.jpg
END:VEVENT
END:VCALENDAR