BEGIN:VCALENDAR
VERSION:2.0
PRODID:-//Uit in Arnhem - ECPv5.0.0.2//NONSGML v1.0//EN
CALSCALE:GREGORIAN
METHOD:PUBLISH
X-WR-CALNAME:Uit in Arnhem
X-ORIGINAL-URL:https://www.uitinarnhem.nl
X-WR-CALDESC:Events for Uit in Arnhem
BEGIN:VTIMEZONE
TZID:Europe/Amsterdam
BEGIN:DAYLIGHT
TZOFFSETFROM:+0100
TZOFFSETTO:+0200
TZNAME:CEST
DTSTART:20210328T010000
END:DAYLIGHT
BEGIN:STANDARD
TZOFFSETFROM:+0200
TZOFFSETTO:+0100
TZNAME:CET
DTSTART:20211031T010000
END:STANDARD
END:VTIMEZONE
BEGIN:VEVENT
DTSTART;TZID=Europe/Amsterdam:20210908T193000
DTEND;TZID=Europe/Amsterdam:20210919T223000
DTSTAMP:20260421T105344
CREATED:20210813T105726Z
LAST-MODIFIED:20210906T125133Z
UID:6863-1631129400-1632090600@www.uitinarnhem.nl
SUMMARY:Absurdistisch toneel van Echo bij ASM Haven
DESCRIPTION:Indringende locatievoorstelling op Stadsblokken  \nOp een spectaculaire locatie\, vlakbij het centrum van Arnhem\, brengt theatergroep Echo het verhaal ‘Eindland’ opnieuw tot leven. Twee toekomstige primitievelingen leven bij het afvoerputje van de wereld. Daar duiken ze de resten van een beschaving op die ze zelf nooit hebben gekend. Hoewel het stuk 10 jaar geleden al werd gespeeld is het actueler dan ooit. Het thema: hoe ziet het leven eruit na het einde? Destijds werd het uitgevoerd op de NDSM-werf in Amsterdam. Nu is in Arnhem een fantastische locatie gevonden. De Stadsblokken veranderen van 8 tot en met 19 september in een post-apocalyptische fabel. De voorstelling kwam tot stand in samenwerking met Hoogte80 Festival. De locatie ademt straks de sfeer van een mini-festival. Er is livemuziek\, er kan gegeten worden en er wordt een speciaalbiertje geschonken. \nTickets: bit.ly/eindland-ticketshop \n  \n
URL:https://www.uitinarnhem.nl/agenda/absurdistisch-toneel-van-echo-bij-asm-haven/
LOCATION:Stadsblokken\, Stadsblokkenweg 25\, Arnhem
CATEGORIES:Culinair,Festival,Muziek,Theater
ATTACH;FMTTYPE=image/jpeg:https://www.uitinarnhem.nl/wp-content/uploads/2021/08/Echo-scaled.jpg
END:VEVENT
END:VCALENDAR